Workbook

Sheet Sổ thu chi
A1: SỔ THU CHI QUÁN ĂN — mẫu của Quán Nhỏ POS (quannho.lpm.vn)
A2: Tồn đầu kỳ tiền mặt | C2: 2000000 | E2: Các dòng có chữ (ví dụ) là dữ liệu mẫu: xoá trước khi dùng.
A3: Tồn đầu kỳ tiền gửi | C3: 10000000
A5: Ngày | B5: Thu / Chi | C5: Danh mục | D5: Diễn giải | E5: Quỹ | F5: Số tiền | G5: Tồn tiền mặt | H5: Tồn tiền gửi
A6: 46327 | B6: Thu | C6: Bán hàng | D6: Doanh thu tiền mặt (ví dụ) | E6: Tiền mặt | F6: 3500000 | G6: =$C$2+IF(E6="Tiền mặt",IF(B6="Thu",F6,IF(B6="Chi",-F6,0)),0) | H6: =$C$3+IF(E6="Tiền gửi",IF(B6="Thu",F6,IF(B6="Chi",-F6,0)),0)
A7: 46327 | B7: Thu | C7: Bán hàng | D7: Doanh thu chuyển khoản (ví dụ) | E7: Tiền gửi | F7: 4200000 | G7: =G6+IF(E7="Tiền mặt",IF(B7="Thu",F7,IF(B7="Chi",-F7,0)),0) | H7: =H6+IF(E7="Tiền gửi",IF(B7="Thu",F7,IF(B7="Chi",-F7,0)),0)
A8: 46327 | B8: Chi | C8: Tiền hàng, nguyên liệu | D8: Mua thịt, rau chợ sáng (ví dụ) | E8: Tiền mặt | F8: 1800000 | G8: =G7+IF(E8="Tiền mặt",IF(B8="Thu",F8,IF(B8="Chi",-F8,0)),0) | H8: =H7+IF(E8="Tiền gửi",IF(B8="Thu",F8,IF(B8="Chi",-F8,0)),0)
A9: 46328 | B9: Chi | C9: Điện, nước, gas | D9: Đổi bình gas (ví dụ) | E9: Tiền mặt | F9: 450000 | G9: =G8+IF(E9="Tiền mặt",IF(B9="Thu",F9,IF(B9="Chi",-F9,0)),0) | H9: =H8+IF(E9="Tiền gửi",IF(B9="Thu",F9,IF(B9="Chi",-F9,0)),0)
A10: 46331 | B10: Chi | C10: Mặt bằng | D10: Tiền thuê tháng 11 (ví dụ) | E10: Tiền gửi | F10: 8000000 | G10: =G9+IF(E10="Tiền mặt",IF(B10="Thu",F10,IF(B10="Chi",-F10,0)),0) | H10: =H9+IF(E10="Tiền gửi",IF(B10="Thu",F10,IF(B10="Chi",-F10,0)),0)
G11: =G10+IF(E11="Tiền mặt",IF(B11="Thu",F11,IF(B11="Chi",-F11,0)),0) | H11: =H10+IF(E11="Tiền gửi",IF(B11="Thu",F11,IF(B11="Chi",-F11,0)),0)
G12: =G11+IF(E12="Tiền mặt",IF(B12="Thu",F12,IF(B12="Chi",-F12,0)),0) | H12: =H11+IF(E12="Tiền gửi",IF(B12="Thu",F12,IF(B12="Chi",-F12,0)),0)
G13: =G12+IF(E13="Tiền mặt",IF(B13="Thu",F13,IF(B13="Chi",-F13,0)),0) | H13: =H12+IF(E13="Tiền gửi",IF(B13="Thu",F13,IF(B13="Chi",-F13,0)),0)
G14: =G13+IF(E14="Tiền mặt",IF(B14="Thu",F14,IF(B14="Chi",-F14,0)),0) | H14: =H13+IF(E14="Tiền gửi",IF(B14="Thu",F14,IF(B14="Chi",-F14,0)),0)
G15: =G14+IF(E15="Tiền mặt",IF(B15="Thu",F15,IF(B15="Chi",-F15,0)),0) | H15: =H14+IF(E15="Tiền gửi",IF(B15="Thu",F15,IF(B15="Chi",-F15,0)),0)
G16: =G15+IF(E16="Tiền mặt",IF(B16="Thu",F16,IF(B16="Chi",-F16,0)),0) | H16: =H15+IF(E16="Tiền gửi",IF(B16="Thu",F16,IF(B16="Chi",-F16,0)),0)
G17: =G16+IF(E17="Tiền mặt",IF(B17="Thu",F17,IF(B17="Chi",-F17,0)),0) | H17: =H16+IF(E17="Tiền gửi",IF(B17="Thu",F17,IF(B17="Chi",-F17,0)),0)
G18: =G17+IF(E18="Tiền mặt",IF(B18="Thu",F18,IF(B18="Chi",-F18,0)),0) | H18: =H17+IF(E18="Tiền gửi",IF(B18="Thu",F18,IF(B18="Chi",-F18,0)),0)
G19: =G18+IF(E19="Tiền mặt",IF(B19="Thu",F19,IF(B19="Chi",-F19,0)),0) | H19: =H18+IF(E19="Tiền gửi",IF(B19="Thu",F19,IF(B19="Chi",-F19,0)),0)
G20: =G19+IF(E20="Tiền mặt",IF(B20="Thu",F20,IF(B20="Chi",-F20,0)),0) | H20: =H19+IF(E20="Tiền gửi",IF(B20="Thu",F20,IF(B20="Chi",-F20,0)),0)
G21: =G20+IF(E21="Tiền mặt",IF(B21="Thu",F21,IF(B21="Chi",-F21,0)),0) | H21: =H20+IF(E21="Tiền gửi",IF(B21="Thu",F21,IF(B21="Chi",-F21,0)),0)
G22: =G21+IF(E22="Tiền mặt",IF(B22="Thu",F22,IF(B22="Chi",-F22,0)),0) | H22: =H21+IF(E22="Tiền gửi",IF(B22="Thu",F22,IF(B22="Chi",-F22,0)),0)
... G505: =G504+IF(E505="Tiền mặt",IF(B505="Thu",F505,IF(B505="Chi",-F505,0)),0) | H505: =H504+IF(E505="Tiền gửi",IF(B505="Thu",F505,IF(B505="Chi",-F505,0)),0)

Sheet Danh mục
A1: Danh mục (sửa thoải mái) | B1: Loại
A2: Bán hàng | B2: Thu
A3: Thu khác | B3: Thu
A4: Tiền hàng, nguyên liệu | B4: Chi
A5: Lương nhân viên | B5: Chi
A6: Mặt bằng | B6: Chi
A7: Điện, nước, gas | B7: Chi
A8: Bao bì, vật tư | B8: Chi
A9: Sửa chữa, bảo trì | B9: Chi
A10: Quảng cáo | B10: Chi
A11: Chi khác | B11: Chi

Sheet Tổng hợp
A1: TỔNG HỢP THU CHI (tự tính từ sheet Sổ thu chi)
A2: Từ ngày | B2: 46327
A3: Đến ngày | B3: 46356
A5: Danh mục | B5: Loại | C5: Số tiền
A6: Bán hàng | B6: Thu | C6: =SUMIFS('Sổ thu chi'!$F$6:$F$505,'Sổ thu chi'!$B$6:$B$505,B6,'Sổ thu chi'!$C$6:$C$505,A6,'Sổ thu chi'!$A$6:$A$505,">="&$B$2,'Sổ thu chi'!$A$6:$A$505,"<="&$B$3)
A7: Thu khác | B7: Thu | C7: =SUMIFS('Sổ thu chi'!$F$6:$F$505,'Sổ thu chi'!$B$6:$B$505,B7,'Sổ thu chi'!$C$6:$C$505,A7,'Sổ thu chi'!$A$6:$A$505,">="&$B$2,'Sổ thu chi'!$A$6:$A$505,"<="&$B$3)
A8: Tiền hàng, nguyên liệu | B8: Chi | C8: =SUMIFS('Sổ thu chi'!$F$6:$F$505,'Sổ thu chi'!$B$6:$B$505,B8,'Sổ thu chi'!$C$6:$C$505,A8,'Sổ thu chi'!$A$6:$A$505,">="&$B$2,'Sổ thu chi'!$A$6:$A$505,"<="&$B$3)
A9: Lương nhân viên | B9: Chi | C9: =SUMIFS('Sổ thu chi'!$F$6:$F$505,'Sổ thu chi'!$B$6:$B$505,B9,'Sổ thu chi'!$C$6:$C$505,A9,'Sổ thu chi'!$A$6:$A$505,">="&$B$2,'Sổ thu chi'!$A$6:$A$505,"<="&$B$3)
A10: Mặt bằng | B10: Chi | C10: =SUMIFS('Sổ thu chi'!$F$6:$F$505,'Sổ thu chi'!$B$6:$B$505,B10,'Sổ thu chi'!$C$6:$C$505,A10,'Sổ thu chi'!$A$6:$A$505,">="&$B$2,'Sổ thu chi'!$A$6:$A$505,"<="&$B$3)
A11: Điện, nước, gas | B11: Chi | C11: =SUMIFS('Sổ thu chi'!$F$6:$F$505,'Sổ thu chi'!$B$6:$B$505,B11,'Sổ thu chi'!$C$6:$C$505,A11,'Sổ thu chi'!$A$6:$A$505,">="&$B$2,'Sổ thu chi'!$A$6:$A$505,"<="&$B$3)
A12: Bao bì, vật tư | B12: Chi | C12: =SUMIFS('Sổ thu chi'!$F$6:$F$505,'Sổ thu chi'!$B$6:$B$505,B12,'Sổ thu chi'!$C$6:$C$505,A12,'Sổ thu chi'!$A$6:$A$505,">="&$B$2,'Sổ thu chi'!$A$6:$A$505,"<="&$B$3)
A13: Sửa chữa, bảo trì | B13: Chi | C13: =SUMIFS('Sổ thu chi'!$F$6:$F$505,'Sổ thu chi'!$B$6:$B$505,B13,'Sổ thu chi'!$C$6:$C$505,A13,'Sổ thu chi'!$A$6:$A$505,">="&$B$2,'Sổ thu chi'!$A$6:$A$505,"<="&$B$3)
A14: Quảng cáo | B14: Chi | C14: =SUMIFS('Sổ thu chi'!$F$6:$F$505,'Sổ thu chi'!$B$6:$B$505,B14,'Sổ thu chi'!$C$6:$C$505,A14,'Sổ thu chi'!$A$6:$A$505,">="&$B$2,'Sổ thu chi'!$A$6:$A$505,"<="&$B$3)
A15: Chi khác | B15: Chi | C15: =SUMIFS('Sổ thu chi'!$F$6:$F$505,'Sổ thu chi'!$B$6:$B$505,B15,'Sổ thu chi'!$C$6:$C$505,A15,'Sổ thu chi'!$A$6:$A$505,">="&$B$2,'Sổ thu chi'!$A$6:$A$505,"<="&$B$3)
A17: Tổng thu | C17: =SUMIFS(C6:C15,B6:B15,"Thu")
A18: Tổng chi | C18: =SUMIFS(C6:C15,B6:B15,"Chi")
A19: Lợi nhuận (thu − chi) | C19: =C17-C18
A20: Biên lợi nhuận | C20: =IF(C17=0,0,C19/C17)
A22: Tồn tiền mặt cuối sổ | C22: ='Sổ thu chi'!G505
A23: Tồn tiền gửi cuối sổ | C23: ='Sổ thu chi'!H505

Sheet Hướng dẫn
A1: Hướng dẫn dùng sổ thu chi
A2: 1. Sheet Sổ thu chi: nhập tồn đầu kỳ ở ô C2 (tiền mặt) và C3 (tiền gửi), xoá các dòng (ví dụ).
A3: 2. Mỗi khoản thu hoặc chi là một dòng: ngày, Thu/Chi, danh mục, diễn giải, quỹ (Tiền mặt hoặc Tiền gửi), số tiền (luôn nhập số dương).
A4: 3. Cột Tồn tiền mặt, Tồn tiền gửi tự tính. Cuối ngày so Tồn tiền mặt với tiền đếm trong két.
A5: 4. Sheet Tổng hợp: chọn Từ ngày, Đến ngày để xem tổng thu, tổng chi theo danh mục và lợi nhuận.
A6: 5. Sheet Danh mục: sửa, thêm danh mục cho hợp quán (cột Loại ghi Thu hoặc Chi). Danh mục mới cần thêm một dòng ở sheet Tổng hợp.
A8: Không muốn nhập tay? Quán Nhỏ POS tự ghi tiền bán hàng vào đúng quỹ tiền mặt hoặc tiền gửi, ghi khoản chi khi nhập hàng, tính lợi nhuận theo kỳ và xuất tệp CSV cho kế toán: https://quannho.lpm.vn
